Package: INDEED Version: 2.10.0 Command: /home/biocbuild/bbs-3.15-bioc/R/bin/R CMD build --keep-empty-dirs --no-resave-data INDEED StartedAt: 2022-10-18 16:55:29 -0400 (Tue, 18 Oct 2022) EndedAt: 2022-10-18 16:55:49 -0400 (Tue, 18 Oct 2022) EllapsedTime: 19.5 seconds RetCode: 0 Status: OK PackageFile: INDEED_2.10.0.tar.gz PackageFileSize: 1.857 MiB