Package: INDEED Version: 2.10.0 Command: /Library/Frameworks/R.framework/Resources/bin/R CMD check --install=check:INDEED.install-out.txt --library=/Library/Frameworks/R.framework/Resources/library --no-vignettes --timings INDEED_2.10.0.tar.gz StartedAt: 2022-10-19 03:38:41 -0400 (Wed, 19 Oct 2022) EndedAt: 2022-10-19 03:40:25 -0400 (Wed, 19 Oct 2022) EllapsedTime: 103.5 seconds RetCode: 0 Status: OK CheckDir: INDEED.Rcheck Warnings: 0