Package: INDEED Version: 2.10.0 Command: /Library/Frameworks/R.framework/Resources/bin/R CMD build --keep-empty-dirs --no-resave-data INDEED StartedAt: 2022-10-18 19:12:15 -0400 (Tue, 18 Oct 2022) EndedAt: 2022-10-18 19:12:27 -0400 (Tue, 18 Oct 2022) EllapsedTime: 11.7 seconds RetCode: 0 Status: OK PackageFile: INDEED_2.10.0.tar.gz PackageFileSize: 1.857 MiB