git_url: https://git.bioconductor.org/packages/IMPCdata git_branch: RELEASE_3_15 git_last_commit: a730c65 git_last_commit_date: 2022-04-26 11:22:30 -0400 (Tue, 26 Apr 2022) Package: IMPCdata Version: 1.32.0 Maintainer: Jeremy Mason MaintainerEmail: jmason at ebi.ac.uk