Package: HiTC Version: 1.40.0 Command: /home/biocbuild/bbs-3.15-bioc/R/bin/R CMD build --keep-empty-dirs --no-resave-data HiTC StartedAt: 2022-10-18 16:53:05 -0400 (Tue, 18 Oct 2022) EndedAt: 2022-10-18 16:55:00 -0400 (Tue, 18 Oct 2022) EllapsedTime: 114.6 seconds RetCode: 0 Status: OK PackageFile: HiTC_1.40.0.tar.gz PackageFileSize: 3.094 MiB