Package: HPAStainR Version: 1.5.1 Command: chmod a+r HPAStainR -R && D:\biocbuild\bbs-3.15-bioc\R\bin\R.exe CMD build --keep-empty-dirs --no-resave-data HPAStainR StartedAt: 2022-03-17 17:10:39 -0400 (Thu, 17 Mar 2022) EndedAt: 2022-03-17 17:11:04 -0400 (Thu, 17 Mar 2022) EllapsedTime: 24.3 seconds RetCode: 0 Status: OK PackageFile: HPAStainR_1.5.1.tar.gz PackageFileSize: 188.8 KiB