Package: GeoDiff Version: 1.1.2 Command: chmod a+r GeoDiff -R && D:\biocbuild\bbs-3.15-bioc\R\bin\R.exe CMD build --keep-empty-dirs --no-resave-data GeoDiff StartedAt: 2022-03-17 17:00:03 -0400 (Thu, 17 Mar 2022) EndedAt: 2022-03-17 17:04:59 -0400 (Thu, 17 Mar 2022) EllapsedTime: 295.6 seconds RetCode: 0 Status: OK PackageFile: GeoDiff_1.1.2.tar.gz PackageFileSize: 4.344 MiB