git_url: https://git.bioconductor.org/packages/GenProSeq git_branch: RELEASE_3_15 git_last_commit: 599abac git_last_commit_date: 2022-04-26 12:22:14 -0400 (Tue, 26 Apr 2022) Package: GenProSeq Version: 1.0.0 Maintainer: Dongmin Jung MaintainerEmail: dmdmjung at gmail.com