| Back to Multiple platform build/check report for BioC 3.15 |
|
This page was generated on 2022-10-19 13:21:37 -0400 (Wed, 19 Oct 2022).
| Hostname | OS | Arch (*) | R version | Installed pkgs |
|---|---|---|---|---|
| nebbiolo1 | Linux (Ubuntu 20.04.5 LTS) | x86_64 | 4.2.1 (2022-06-23) -- "Funny-Looking Kid" | 4386 |
| palomino3 | Windows Server 2022 Datacenter | x64 | 4.2.1 (2022-06-23 ucrt) -- "Funny-Looking Kid" | 4138 |
| merida1 | macOS 10.14.6 Mojave | x86_64 | 4.2.1 (2022-06-23) -- "Funny-Looking Kid" | 4205 |
| Click on any hostname to see more info about the system (e.g. compilers) (*) as reported by 'uname -p', except on Windows and Mac OS X | ||||
|
To the developers/maintainers of the GWENA package: - Please allow up to 24 hours (and sometimes 48 hours) for your latest push to git@git.bioconductor.org:packages/GWENA.git to reflect on this report. See How and When does the builder pull? When will my changes propagate? for more information. - Make sure to use the following settings in order to reproduce any error or warning you see on this page. |
| Package 873/2140 | Hostname | OS / Arch | INSTALL | BUILD | CHECK | BUILD BIN | ||||||||
| GWENA 1.6.0 (landing page) Gwenaƫlle Lemoine
| nebbiolo1 | Linux (Ubuntu 20.04.5 LTS) / x86_64 | OK | OK | OK | |||||||||
| palomino3 | Windows Server 2022 Datacenter / x64 | OK | OK | OK | OK | |||||||||
| merida1 | macOS 10.14.6 Mojave / x86_64 | OK | OK | OK | OK | |||||||||
| Package: GWENA |
| Version: 1.6.0 |
| Command: F:\biocbuild\bbs-3.15-bioc\R\bin\R.exe CMD check --no-multiarch --install=check:GWENA.install-out.txt --library=F:\biocbuild\bbs-3.15-bioc\R\library --no-vignettes --timings GWENA_1.6.0.tar.gz |
| StartedAt: 2022-10-19 00:55:11 -0400 (Wed, 19 Oct 2022) |
| EndedAt: 2022-10-19 01:04:36 -0400 (Wed, 19 Oct 2022) |
| EllapsedTime: 565.4 seconds |
| RetCode: 0 |
| Status: OK |
| CheckDir: GWENA.Rcheck |
| Warnings: 0 |
##############################################################################
##############################################################################
###
### Running command:
###
### F:\biocbuild\bbs-3.15-bioc\R\bin\R.exe CMD check --no-multiarch --install=check:GWENA.install-out.txt --library=F:\biocbuild\bbs-3.15-bioc\R\library --no-vignettes --timings GWENA_1.6.0.tar.gz
###
##############################################################################
##############################################################################
* using log directory 'F:/biocbuild/bbs-3.15-bioc/meat/GWENA.Rcheck'
* using R version 4.2.1 (2022-06-23 ucrt)
* using platform: x86_64-w64-mingw32 (64-bit)
* using session charset: UTF-8
* using option '--no-vignettes'
* checking for file 'GWENA/DESCRIPTION' ... OK
* this is package 'GWENA' version '1.6.0'
* package encoding: UTF-8
* checking package namespace information ... OK
* checking package dependencies ... OK
* checking if this is a source package ... OK
* checking if there is a namespace ... OK
* checking for hidden files and directories ... OK
* checking for portable file names ... OK
* checking whether package 'GWENA' can be installed ... OK
* checking installed package size ... OK
* checking package directory ... OK
* checking 'build' directory ... OK
* checking DESCRIPTION meta-information ... OK
* checking top-level files ... OK
* checking for left-over files ... OK
* checking index information ... OK
* checking package subdirectories ... OK
* checking R files for non-ASCII characters ... OK
* checking R files for syntax errors ... OK
* checking whether the package can be loaded ... OK
* checking whether the package can be loaded with stated dependencies ... OK
* checking whether the package can be unloaded cleanly ... OK
* checking whether the namespace can be loaded with stated dependencies ... OK
* checking whether the namespace can be unloaded cleanly ... OK
* checking dependencies in R code ... OK
* checking S3 generic/method consistency ... OK
* checking replacement functions ... OK
* checking foreign function calls ... OK
* checking R code for possible problems ... OK
* checking Rd files ... OK
* checking Rd metadata ... OK
* checking Rd cross-references ... OK
* checking for missing documentation entries ... OK
* checking for code/documentation mismatches ... OK
* checking Rd \usage sections ... OK
* checking Rd contents ... OK
* checking for unstated dependencies in examples ... OK
* checking contents of 'data' directory ... OK
* checking data for non-ASCII characters ... OK
* checking LazyData ... OK
* checking data for ASCII and uncompressed saves ... OK
* checking files in 'vignettes' ... OK
* checking examples ... OK
Examples with CPU (user + system) or elapsed time > 5s
user system elapsed
z_summary 12.63 0.05 14.37
compare_conditions 8.57 0.05 9.69
plot_enrichment 1.39 0.12 10.11
bio_enrich 0.14 0.03 12.91
* checking for unstated dependencies in 'tests' ... OK
* checking tests ...
Running 'testthat.R'
OK
* checking for unstated dependencies in vignettes ... OK
* checking package vignettes in 'inst/doc' ... OK
* checking running R code from vignettes ... SKIPPED
* checking re-building of vignette outputs ... SKIPPED
* checking PDF version of manual ... OK
* DONE
Status: OK
GWENA.Rcheck/00install.out
############################################################################## ############################################################################## ### ### Running command: ### ### F:\biocbuild\bbs-3.15-bioc\R\bin\R.exe CMD INSTALL GWENA ### ############################################################################## ############################################################################## * installing to library 'F:/biocbuild/bbs-3.15-bioc/R/library' * installing *source* package 'GWENA' ... ** using staged installation ** R ** data *** moving datasets to lazyload DB ** inst ** byte-compile and prepare package for lazy loading ** help *** installing help indices ** building package indices ** installing vignettes ** testing if installed package can be loaded from temporary location ** testing if installed package can be loaded from final location ** testing if installed package keeps a record of temporary installation path * DONE (GWENA)
GWENA.Rcheck/tests/testthat.Rout
R version 4.2.1 (2022-06-23 ucrt) -- "Funny-Looking Kid"
Copyright (C) 2022 The R Foundation for Statistical Computing
Platform: x86_64-w64-mingw32/x64 (64-bit)
R is free software and comes with ABSOLUTELY NO WARRANTY.
You are welcome to redistribute it under certain conditions.
Type 'license()' or 'licence()' for distribution details.
R is a collaborative project with many contributors.
Type 'contributors()' for more information and
'citation()' on how to cite R or R packages in publications.
Type 'demo()' for some demos, 'help()' for on-line help, or
'help.start()' for an HTML browser interface to help.
Type 'q()' to quit R.
> library(testthat)
> library(GWENA)
>
> test_check("GWENA")
[ FAIL 0 | WARN 0 | SKIP 0 | PASS 278 ]
>
> proc.time()
user system elapsed
473.04 3.67 267.84
GWENA.Rcheck/GWENA-Ex.timings
| name | user | system | elapsed | |
| associate_phenotype | 0.02 | 0.02 | 0.03 | |
| bio_enrich | 0.14 | 0.03 | 12.91 | |
| build_graph_from_sq_mat | 0.21 | 0.02 | 0.24 | |
| build_net | 2.36 | 0.04 | 2.40 | |
| compare_conditions | 8.57 | 0.05 | 9.69 | |
| detect_modules | 1.68 | 0.03 | 1.73 | |
| filter_RNA_seq | 0 | 0 | 0 | |
| filter_low_var | 0.04 | 0.00 | 0.03 | |
| get_fit.cor | 0.73 | 0.00 | 0.74 | |
| get_fit.expr | 0.83 | 0.00 | 0.84 | |
| get_hub_degree | 0.12 | 0.00 | 0.13 | |
| get_hub_genes | 0 | 0 | 0 | |
| get_hub_high_co | 0 | 0 | 0 | |
| get_hub_kleinberg | 0.22 | 0.00 | 0.22 | |
| get_sub_clusters | 1.56 | 0.03 | 1.60 | |
| is_data_expr | 0 | 0 | 0 | |
| is_gost | 0.03 | 0.00 | 2.90 | |
| is_module | 0 | 0 | 0 | |
| is_network | 0 | 0 | 0 | |
| join_gost | 0.02 | 0.00 | 1.19 | |
| plot_comparison_stats | 0.39 | 0.00 | 0.39 | |
| plot_enrichment | 1.39 | 0.12 | 10.11 | |
| plot_expression_profiles | 2.70 | 0.03 | 2.73 | |
| plot_module | 0.19 | 0.03 | 0.22 | |
| plot_modules_merge | 1.75 | 0.02 | 1.76 | |
| plot_modules_phenotype | 0.26 | 0.00 | 0.27 | |
| z_summary | 12.63 | 0.05 | 14.37 | |