Package: GSCA Version: 2.25.0 Command: rm -rf GSCA.buildbin-libdir && mkdir GSCA.buildbin-libdir && D:\biocbuild\bbs-3.15-bioc\R\bin\R.exe CMD INSTALL --build --library=GSCA.buildbin-libdir GSCA_2.25.0.tar.gz StartedAt: 2022-03-17 21:13:17 -0400 (Thu, 17 Mar 2022) EndedAt: 2022-03-17 21:14:28 -0400 (Thu, 17 Mar 2022) EllapsedTime: 70.8 seconds RetCode: 0 Status: OK PackageFile: GSCA_2.25.0.zip PackageFileSize: 2.315 MiB