Package: GRaNIE Version: 1.0.7 Command: /Library/Frameworks/R.framework/Resources/bin/R CMD build --keep-empty-dirs --no-resave-data GRaNIE StartedAt: 2022-10-18 18:54:44 -0400 (Tue, 18 Oct 2022) EndedAt: 2022-10-18 18:58:34 -0400 (Tue, 18 Oct 2022) EllapsedTime: 230.1 seconds RetCode: 0 Status: OK PackageFile: GRaNIE_1.0.7.tar.gz PackageFileSize: 3.019 MiB