Package: GOstats Version: 2.62.0 Command: /Library/Frameworks/R.framework/Resources/bin/R CMD check --install=check:GOstats.install-out.txt --library=/Library/Frameworks/R.framework/Resources/library --no-vignettes --timings GOstats_2.62.0.tar.gz StartedAt: 2022-10-19 03:07:17 -0400 (Wed, 19 Oct 2022) EndedAt: 2022-10-19 03:13:54 -0400 (Wed, 19 Oct 2022) EllapsedTime: 396.8 seconds RetCode: 0 Status: OK CheckDir: GOstats.Rcheck Warnings: 0