Package: GCSConnection Version: 1.8.0 Command: /home/biocbuild/bbs-3.15-bioc/R/bin/R CMD check --install=check:GCSConnection.install-out.txt --library=/home/biocbuild/bbs-3.15-bioc/R/library --no-vignettes --timings GCSConnection_1.8.0.tar.gz StartedAt: 2022-10-18 19:49:18 -0400 (Tue, 18 Oct 2022) EndedAt: 2022-10-18 19:50:20 -0400 (Tue, 18 Oct 2022) EllapsedTime: 62.4 seconds RetCode: 1 Status: ERROR CheckDir: GCSConnection.Rcheck Warnings: NA