Package: FlowSOM Version: 2.3.0 Command: chmod a+r FlowSOM -R && D:\biocbuild\bbs-3.15-bioc\R\bin\R.exe CMD build --keep-empty-dirs --no-resave-data FlowSOM StartedAt: 2022-03-17 16:53:10 -0400 (Thu, 17 Mar 2022) EndedAt: 2022-03-17 16:55:04 -0400 (Thu, 17 Mar 2022) EllapsedTime: 113.8 seconds RetCode: 0 Status: OK PackageFile: FlowSOM_2.3.0.tar.gz PackageFileSize: 5.801 MiB