Package: ExploreModelMatrix Version: 1.8.0 Command: rm -rf ExploreModelMatrix.buildbin-libdir && mkdir ExploreModelMatrix.buildbin-libdir && F:\biocbuild\bbs-3.15-bioc\R\bin\R.exe CMD INSTALL --build --library=ExploreModelMatrix.buildbin-libdir ExploreModelMatrix_1.8.0.tar.gz StartedAt: 2022-10-19 05:52:27 -0400 (Wed, 19 Oct 2022) EndedAt: 2022-10-19 05:52:45 -0400 (Wed, 19 Oct 2022) EllapsedTime: 18.5 seconds RetCode: 0 Status: OK PackageFile: ExploreModelMatrix_1.8.0.zip PackageFileSize: 1.89 MiB