Package: ExploreModelMatrix Version: 1.8.0 Command: /Library/Frameworks/R.framework/Resources/bin/R CMD check --install=check:ExploreModelMatrix.install-out.txt --library=/Library/Frameworks/R.framework/Resources/library --no-vignettes --timings ExploreModelMatrix_1.8.0.tar.gz StartedAt: 2022-10-19 02:19:02 -0400 (Wed, 19 Oct 2022) EndedAt: 2022-10-19 02:20:59 -0400 (Wed, 19 Oct 2022) EllapsedTime: 117.1 seconds RetCode: 0 Status: OK CheckDir: ExploreModelMatrix.Rcheck Warnings: 0