Package: ExperimentHubData Version: 1.21.2 Command: chmod a+r ExperimentHubData -R && D:\biocbuild\bbs-3.15-bioc\R\bin\R.exe CMD build --keep-empty-dirs --no-resave-data ExperimentHubData StartedAt: 2022-03-17 16:49:34 -0400 (Thu, 17 Mar 2022) EndedAt: 2022-03-17 16:50:09 -0400 (Thu, 17 Mar 2022) EllapsedTime: 35.4 seconds RetCode: 0 Status: OK PackageFile: ExperimentHubData_1.21.2.tar.gz PackageFileSize: 223 KiB