Package: ExperimentHubData Version: 1.22.0 Command: chmod a+r ExperimentHubData -R && F:\biocbuild\bbs-3.15-bioc\R\bin\R.exe CMD build --keep-empty-dirs --no-resave-data ExperimentHubData StartedAt: 2022-10-18 18:26:44 -0400 (Tue, 18 Oct 2022) EndedAt: 2022-10-18 18:27:30 -0400 (Tue, 18 Oct 2022) EllapsedTime: 46.8 seconds RetCode: 0 Status: OK PackageFile: ExperimentHubData_1.22.0.tar.gz PackageFileSize: 223 KiB