Package: ExperimentHubData Version: 1.22.0 Command: rm -rf ExperimentHubData.buildbin-libdir && mkdir ExperimentHubData.buildbin-libdir && F:\biocbuild\bbs-3.15-bioc\R\bin\R.exe CMD INSTALL --build --library=ExperimentHubData.buildbin-libdir ExperimentHubData_1.22.0.tar.gz StartedAt: 2022-10-19 05:52:24 -0400 (Wed, 19 Oct 2022) EndedAt: 2022-10-19 05:53:15 -0400 (Wed, 19 Oct 2022) EllapsedTime: 50.9 seconds RetCode: 0 Status: OK PackageFile: ExperimentHubData_1.22.0.zip PackageFileSize: 517.5 KiB