git_url: https://git.bioconductor.org/packages/EnrichmentBrowser git_branch: RELEASE_3_15 git_last_commit: d0f440d git_last_commit_date: 2022-04-26 11:21:31 -0400 (Tue, 26 Apr 2022) Package: EnrichmentBrowser Version: 2.26.0 Maintainer: Ludwig Geistlinger MaintainerEmail: Ludwig_Geistlinger at hms.harvard.edu