Package: EMDomics Version: 2.25.0 Command: rm -rf EMDomics.buildbin-libdir && mkdir EMDomics.buildbin-libdir && D:\biocbuild\bbs-3.15-bioc\R\bin\R.exe CMD INSTALL --build --library=EMDomics.buildbin-libdir EMDomics_2.25.0.tar.gz StartedAt: 2022-03-17 21:06:21 -0400 (Thu, 17 Mar 2022) EndedAt: 2022-03-17 21:07:52 -0400 (Thu, 17 Mar 2022) EllapsedTime: 90.3 seconds RetCode: 0 Status: OK PackageFile: EMDomics_2.25.0.zip PackageFileSize: 212.1 KiB