Package: EGSEA Version: 1.24.0 Command: /home/biocbuild/bbs-3.15-bioc/R/bin/R CMD INSTALL EGSEA StartedAt: 2022-10-18 15:30:18 -0400 (Tue, 18 Oct 2022) EndedAt: 2022-10-18 15:31:05 -0400 (Tue, 18 Oct 2022) EllapsedTime: 46.6 seconds RetCode: 0 Status: OK