Package: EGSEA Version: 1.24.0 Command: rm -rf EGSEA.buildbin-libdir && mkdir EGSEA.buildbin-libdir && /Users/biocbuild/BBS/utils/build-universal.sh EGSEA_1.24.0.tar.gz /Library/Frameworks/R.framework/Resources/bin/R EGSEA.buildbin-libdir StartedAt: 2022-10-19 10:17:28 -0400 (Wed, 19 Oct 2022) EndedAt: 2022-10-19 10:19:07 -0400 (Wed, 19 Oct 2022) EllapsedTime: 98.9 seconds RetCode: 0 Status: OK PackageFile: EGSEA_1.24.0.tgz PackageFileSize: 2.354 MiB