Package: DirichletMultinomial Version: 1.38.0 Command: chmod a+r DirichletMultinomial -R && F:\biocbuild\bbs-3.15-bioc\R\bin\R.exe CMD build --keep-empty-dirs --no-resave-data DirichletMultinomial StartedAt: 2022-10-18 18:11:37 -0400 (Tue, 18 Oct 2022) EndedAt: 2022-10-18 18:12:07 -0400 (Tue, 18 Oct 2022) EllapsedTime: 29.2 seconds RetCode: 0 Status: OK PackageFile: DirichletMultinomial_1.38.0.tar.gz PackageFileSize: 429.2 KiB