Package: DECIPHER Version: 2.23.0 Command: chmod a+r DECIPHER -R && D:\biocbuild\bbs-3.15-bioc\R\bin\R.exe CMD build --keep-empty-dirs --no-resave-data DECIPHER StartedAt: 2022-03-17 16:42:20 -0400 (Thu, 17 Mar 2022) EndedAt: 2022-03-17 16:48:38 -0400 (Thu, 17 Mar 2022) EllapsedTime: 377.9 seconds RetCode: 0 Status: OK PackageFile: DECIPHER_2.23.0.tar.gz PackageFileSize: 15.7 MiB