Package: CoverageView Version: 1.34.0 Command: /home/biocbuild/bbs-3.15-bioc/R/bin/R CMD INSTALL CoverageView StartedAt: 2022-10-18 15:44:07 -0400 (Tue, 18 Oct 2022) EndedAt: 2022-10-18 15:44:35 -0400 (Tue, 18 Oct 2022) EllapsedTime: 28.3 seconds RetCode: 0 Status: OK