Package: CoGAPS Version: 3.16.0 Command: rm -rf CoGAPS.buildbin-libdir && mkdir CoGAPS.buildbin-libdir && /Users/biocbuild/BBS/utils/build-universal.sh CoGAPS_3.16.0.tar.gz /Library/Frameworks/R.framework/Resources/bin/R CoGAPS.buildbin-libdir StartedAt: 2022-10-19 10:08:07 -0400 (Wed, 19 Oct 2022) EndedAt: 2022-10-19 10:13:15 -0400 (Wed, 19 Oct 2022) EllapsedTime: 308.2 seconds RetCode: 0 Status: OK PackageFile: CoGAPS_3.16.0.tgz PackageFileSize: 20.29 MiB