Package: ChromHeatMap Version: 1.50.0 Command: rm -rf ChromHeatMap.buildbin-libdir && mkdir ChromHeatMap.buildbin-libdir && F:\biocbuild\bbs-3.15-bioc\R\bin\R.exe CMD INSTALL --build --library=ChromHeatMap.buildbin-libdir ChromHeatMap_1.50.0.tar.gz StartedAt: 2022-10-19 05:40:29 -0400 (Wed, 19 Oct 2022) EndedAt: 2022-10-19 05:41:22 -0400 (Wed, 19 Oct 2022) EllapsedTime: 53.6 seconds RetCode: 0 Status: OK PackageFile: ChromHeatMap_1.50.0.zip PackageFileSize: 576.7 KiB