Package: ChIPsim Version: 1.49.0 Command: rm -rf ChIPsim.buildbin-libdir && mkdir ChIPsim.buildbin-libdir && D:\biocbuild\bbs-3.15-bioc\R\bin\R.exe CMD INSTALL --build --library=ChIPsim.buildbin-libdir ChIPsim_1.49.0.tar.gz StartedAt: 2022-03-17 20:59:44 -0400 (Thu, 17 Mar 2022) EndedAt: 2022-03-17 21:01:17 -0400 (Thu, 17 Mar 2022) EllapsedTime: 93.2 seconds RetCode: 0 Status: OK PackageFile: ChIPsim_1.49.0.zip PackageFileSize: 713.8 KiB