Package: ChIPseeker Version: 1.32.1 Command: /home/biocbuild/bbs-3.15-bioc/R/bin/R CMD build --keep-empty-dirs --no-resave-data ChIPseeker StartedAt: 2022-10-18 16:14:19 -0400 (Tue, 18 Oct 2022) EndedAt: 2022-10-18 16:17:02 -0400 (Tue, 18 Oct 2022) EllapsedTime: 162.4 seconds RetCode: 0 Status: OK PackageFile: ChIPseeker_1.32.1.tar.gz PackageFileSize: 6.74 MiB