Package: Category Version: 2.62.0 Command: chmod a+r Category -R && F:\biocbuild\bbs-3.15-bioc\R\bin\R.exe CMD build --keep-empty-dirs --no-resave-data Category StartedAt: 2022-10-18 17:34:02 -0400 (Tue, 18 Oct 2022) EndedAt: 2022-10-18 17:36:04 -0400 (Tue, 18 Oct 2022) EllapsedTime: 121.2 seconds RetCode: 0 Status: OK PackageFile: Category_2.62.0.tar.gz PackageFileSize: 867.4 KiB