git_url: https://git.bioconductor.org/packages/COMPASS git_branch: RELEASE_3_15 git_last_commit: 26c7da3 git_last_commit_date: 2022-04-26 11:17:53 -0400 (Tue, 26 Apr 2022) Package: COMPASS Version: 1.34.0 Maintainer: Greg Finak MaintainerEmail: gfinak at fhcrc.org