Package: CNVRanger Version: 1.12.0 Command: /home/biocbuild/bbs-3.15-bioc/R/bin/R CMD build --keep-empty-dirs --no-resave-data CNVRanger StartedAt: 2022-10-18 16:18:20 -0400 (Tue, 18 Oct 2022) EndedAt: 2022-10-18 16:21:25 -0400 (Tue, 18 Oct 2022) EllapsedTime: 184.8 seconds RetCode: 0 Status: OK PackageFile: CNVRanger_1.12.0.tar.gz PackageFileSize: 1.969 MiB