Package: CNORfeeder Version: 1.36.1 Command: /Library/Frameworks/R.framework/Resources/bin/R CMD check --install=check:CNORfeeder.install-out.txt --library=/Library/Frameworks/R.framework/Resources/library --no-vignettes --timings CNORfeeder_1.36.1.tar.gz StartedAt: 2022-10-19 00:44:40 -0400 (Wed, 19 Oct 2022) EndedAt: 2022-10-19 00:46:56 -0400 (Wed, 19 Oct 2022) EllapsedTime: 136.1 seconds RetCode: 0 Status: OK CheckDir: CNORfeeder.Rcheck Warnings: 0