git_url: https://git.bioconductor.org/packages/CNAnorm git_branch: RELEASE_3_15 git_last_commit: 4ad9fe7 git_last_commit_date: 2022-04-26 11:09:08 -0400 (Tue, 26 Apr 2022) Package: CNAnorm Version: 1.42.0 Maintainer: Stefano Berri MaintainerEmail: sberri at illumina.com