Package: BUSseq Version: 1.2.0 Command: rm -rf BUSseq.buildbin-libdir && mkdir BUSseq.buildbin-libdir && /Users/biocbuild/BBS/utils/build-universal.sh BUSseq_1.2.0.tar.gz /Library/Frameworks/R.framework/Resources/bin/R BUSseq.buildbin-libdir StartedAt: 2022-10-19 10:01:32 -0400 (Wed, 19 Oct 2022) EndedAt: 2022-10-19 10:02:21 -0400 (Wed, 19 Oct 2022) EllapsedTime: 49.3 seconds RetCode: 0 Status: OK PackageFile: BUSseq_1.2.0.tgz PackageFileSize: 1.015 MiB