Package: BDMMAcorrect Version: 1.14.0 Command: /Library/Frameworks/R.framework/Resources/bin/R CMD INSTALL BDMMAcorrect StartedAt: 2022-10-18 15:40:44 -0400 (Tue, 18 Oct 2022) EndedAt: 2022-10-18 15:42:01 -0400 (Tue, 18 Oct 2022) EllapsedTime: 76.9 seconds RetCode: 0 Status: OK