Package: AnnotationDbi Version: 1.57.1 Command: chmod a+r AnnotationDbi -R && D:\biocbuild\bbs-3.15-bioc\R\bin\R.exe CMD build --keep-empty-dirs --no-resave-data AnnotationDbi StartedAt: 2022-03-17 16:22:02 -0400 (Thu, 17 Mar 2022) EndedAt: 2022-03-17 16:23:26 -0400 (Thu, 17 Mar 2022) EllapsedTime: 84.0 seconds RetCode: 0 Status: OK PackageFile: AnnotationDbi_1.57.1.tar.gz PackageFileSize: 4.146 MiB