Package: ASSET Version: 2.13.2 Command: rm -rf ASSET.buildbin-libdir && mkdir ASSET.buildbin-libdir && D:\biocbuild\bbs-3.15-bioc\R\bin\R.exe CMD INSTALL --build --library=ASSET.buildbin-libdir ASSET_2.13.2.tar.gz StartedAt: 2022-03-17 20:53:20 -0400 (Thu, 17 Mar 2022) EndedAt: 2022-03-17 20:54:31 -0400 (Thu, 17 Mar 2022) EllapsedTime: 71.2 seconds RetCode: 0 Status: OK PackageFile: ASSET_2.13.2.zip PackageFileSize: 502.3 KiB