Welcome to mirrors.dotsrc.org

All our mirrors of open source software are available via http, https, ftp and an onion service. More information about our mirrors including statistics and contact information is available on our mirror info pages.

For information about dotsrc.org and our other services please go to our website.

Index of /bioconductor/checkResults/3.15/bioc-LATEST/ANCOMBC/raw-results/palomino3/

File Name  ↓ File Size  ↓ Date  ↓ 
--
267 B2022-10-19 17:21:05
1001 B2022-10-19 17:21:05
445 B2022-10-19 17:21:05
3.4 KiB2022-10-19 17:21:05
452 B2022-10-19 17:21:05
961 B2022-10-19 17:21:05
511 B2022-10-19 17:21:05
1.1 KiB2022-10-19 17:21:05