Package: ADImpute Version: 1.6.0 Command: /Library/Frameworks/R.framework/Resources/bin/R CMD INSTALL ADImpute StartedAt: 2022-10-18 16:37:43 -0400 (Tue, 18 Oct 2022) EndedAt: 2022-10-18 16:37:50 -0400 (Tue, 18 Oct 2022) EllapsedTime: 6.6 seconds RetCode: 0 Status: OK