git_url: https://git.bioconductor.org/packages/ADAM git_branch: RELEASE_3_15 git_last_commit: 994e420 git_last_commit_date: 2022-04-26 11:52:16 -0400 (Tue, 26 Apr 2022) Package: ADAM Version: 1.12.0 Maintainer: Jose Luiz Rybarczyk Filho MaintainerEmail: jose.luiz at unesp.br