Package: methylationArrayAnalysis Version: 1.18.0 Command: chmod a+r methylationArrayAnalysis -R && D:\biocbuild\bbs-3.14-bioc\R\bin\R.exe CMD build --keep-empty-dirs --no-resave-data methylationArrayAnalysis StartedAt: 2022-04-11 15:06:39 -0400 (Mon, 11 Apr 2022) EndedAt: 2022-04-11 15:14:54 -0400 (Mon, 11 Apr 2022) EllapsedTime: 495.2 seconds RetCode: 0 Status: OK PackageFile: methylationArrayAnalysis_1.18.0.tar.gz PackageFileSize: 217.6 MiB