Package: liftOver Version: 1.18.0 Command: /Library/Frameworks/R.framework/Resources/bin/R CMD build --keep-empty-dirs --no-resave-data liftOver StartedAt: 2022-04-11 15:06:44 -0400 (Mon, 11 Apr 2022) EndedAt: 2022-04-11 15:07:54 -0400 (Mon, 11 Apr 2022) EllapsedTime: 70.5 seconds RetCode: 0 Status: OK PackageFile: liftOver_1.18.0.tar.gz PackageFileSize: 4.374 MiB