git_url: https://git.bioconductor.org/packages/liftOver git_branch: RELEASE_3_14 git_last_commit: 6f2ff23 git_last_commit_date: 2021-10-26 11:15:35 -0400 (Tue, 26 Oct 2021) Package: liftOver Version: 1.18.0 Maintainer: Bioconductor Package Maintainer MaintainerEmail: maintainer at bioconductor.org