Package: RNAseq123 Version: 1.18.0 Command: /Library/Frameworks/R.framework/Resources/bin/R CMD INSTALL RNAseq123 StartedAt: 2022-04-11 15:00:43 -0400 (Mon, 11 Apr 2022) EndedAt: 2022-04-11 15:01:14 -0400 (Mon, 11 Apr 2022) EllapsedTime: 30.2 seconds RetCode: 0 Status: OK