Package: EGSEA123 Version: 1.18.0 Command: /Library/Frameworks/R.framework/Resources/bin/R CMD INSTALL EGSEA123 StartedAt: 2022-04-11 15:01:14 -0400 (Mon, 11 Apr 2022) EndedAt: 2022-04-11 15:01:45 -0400 (Mon, 11 Apr 2022) EllapsedTime: 31.7 seconds RetCode: 0 Status: OK