Package: EGSEA123 Version: 1.18.0 Command: /Library/Frameworks/R.framework/Resources/bin/R CMD build --keep-empty-dirs --no-resave-data EGSEA123 StartedAt: 2022-04-11 15:04:20 -0400 (Mon, 11 Apr 2022) EndedAt: 2022-04-11 15:09:59 -0400 (Mon, 11 Apr 2022) EllapsedTime: 339.0 seconds RetCode: 0 Status: OK PackageFile: EGSEA123_1.18.0.tar.gz PackageFileSize: 1.832 MiB