| Back to Long Tests report for BioC 3.14 |
This page was generated on 2022-04-09 21:00:02 -0400 (Sat, 09 Apr 2022).
| Hostname | OS | Arch (*) | R version | Installed pkgs |
|---|---|---|---|---|
| nebbiolo2 | Linux (Ubuntu 20.04.4 LTS) | x86_64 | 4.1.3 (2022-03-10) -- "One Push-Up" | 4322 |
| riesling1 | Windows Server 2019 Standard | x64 | 4.1.2 (2021-11-01) -- "Bird Hippie" | 4108 |
| machv2 | macOS 10.14.6 Mojave | x86_64 | 4.1.3 (2022-03-10) -- "One Push-Up" | 4135 |
| Click on any hostname to see more info about the system (e.g. compilers) (*) as reported by 'uname -p', except on Windows and Mac OS X | ||||
|
To the developers/maintainers of the zellkonverter package: Make sure to use the following settings in order to reproduce any error or warning you see on this page. |
| Package 19/19 | Hostname | OS / Arch | CHECK | |||||||
| zellkonverter 1.4.0 (landing page) Luke Zappia
| nebbiolo2 | Linux (Ubuntu 20.04.4 LTS) / x86_64 | ERROR | |||||||
| riesling1 | Windows Server 2019 Standard / x64 | ERROR | ||||||||
| machv2 | macOS 10.14.6 Mojave / x86_64 | ERROR | ||||||||
| Package: zellkonverter |
| Version: 1.4.0 |
| Command: /home/biocbuild/bbs-3.14-bioc/R/bin/R CMD build --keep-empty-dirs --no-resave-data --no-build-vignettes --no-manual zellkonverter |
| StartedAt: 2022-04-09 08:00:13 -0400 (Sat, 09 Apr 2022) |
| EndedAt: 2022-04-09 08:00:14 -0400 (Sat, 09 Apr 2022) |
| EllapsedTime: 0.9 seconds |
| RetCode: 0 |
| Status: OK |
| PackageFile: zellkonverter_1.4.0.tar.gz |
| PackageFileSize: 827.4 KiB |
############################################################################## ############################################################################## ### ### Running command: ### ### /home/biocbuild/bbs-3.14-bioc/R/bin/R CMD build --keep-empty-dirs --no-resave-data --no-build-vignettes --no-manual zellkonverter ### ############################################################################## ############################################################################## * checking for file ‘zellkonverter/DESCRIPTION’ ... OK * preparing ‘zellkonverter’: * checking DESCRIPTION meta-information ... OK * checking for LF line-endings in source and make files and shell scripts * checking for empty or unneeded directories Omitted ‘LazyData’ from DESCRIPTION * building ‘zellkonverter_1.4.0.tar.gz’