| Back to Long Tests report for BioC 3.14 |
This page was generated on 2022-04-09 21:00:03 -0400 (Sat, 09 Apr 2022).
| Hostname | OS | Arch (*) | R version | Installed pkgs |
|---|---|---|---|---|
| nebbiolo2 | Linux (Ubuntu 20.04.4 LTS) | x86_64 | 4.1.3 (2022-03-10) -- "One Push-Up" | 4322 |
| riesling1 | Windows Server 2019 Standard | x64 | 4.1.2 (2021-11-01) -- "Bird Hippie" | 4108 |
| machv2 | macOS 10.14.6 Mojave | x86_64 | 4.1.3 (2022-03-10) -- "One Push-Up" | 4135 |
| Click on any hostname to see more info about the system (e.g. compilers) (*) as reported by 'uname -p', except on Windows and Mac OS X | ||||
|
To the developers/maintainers of the biodb package: Make sure to use the following settings in order to reproduce any error or warning you see on this page. |
| Package 4/19 | Hostname | OS / Arch | CHECK | |||||||
| biodb 1.2.2 (landing page) Pierrick Roger
| nebbiolo2 | Linux (Ubuntu 20.04.4 LTS) / x86_64 | OK | |||||||
| riesling1 | Windows Server 2019 Standard / x64 | OK | ||||||||
| machv2 | macOS 10.14.6 Mojave / x86_64 | OK | ||||||||
| Package: biodb |
| Version: 1.2.2 |
| Command: /Library/Frameworks/R.framework/Resources/bin/R CMD build --keep-empty-dirs --no-resave-data --no-build-vignettes --no-manual biodb |
| StartedAt: 2022-04-09 08:00:50 -0400 (Sat, 09 Apr 2022) |
| EndedAt: 2022-04-09 08:00:57 -0400 (Sat, 09 Apr 2022) |
| EllapsedTime: 6.4 seconds |
| RetCode: 0 |
| Status: OK |
| PackageFile: biodb_1.2.2.tar.gz |
| PackageFileSize: 339.8 KiB |
############################################################################## ############################################################################## ### ### Running command: ### ### /Library/Frameworks/R.framework/Resources/bin/R CMD build --keep-empty-dirs --no-resave-data --no-build-vignettes --no-manual biodb ### ############################################################################## ############################################################################## * checking for file ‘biodb/DESCRIPTION’ ... OK * preparing ‘biodb’: * checking DESCRIPTION meta-information ... OK * cleaning src * checking for LF line-endings in source and make files and shell scripts * checking for empty or unneeded directories * building ‘biodb_1.2.2.tar.gz’